BEGIN:VCALENDAR
VERSION:2.0
PRODID:-//Cool Dog Sound LLC - ECPv6.15.20//NONSGML v1.0//EN
CALSCALE:GREGORIAN
METHOD:PUBLISH
X-WR-CALNAME:Cool Dog Sound LLC
X-ORIGINAL-URL:https://cooldogsound.com
X-WR-CALDESC:Events for Cool Dog Sound LLC
REFRESH-INTERVAL;VALUE=DURATION:PT1H
X-Robots-Tag:noindex
X-PUBLISHED-TTL:PT1H
BEGIN:VTIMEZONE
TZID:America/Chicago
BEGIN:DAYLIGHT
TZOFFSETFROM:-0600
TZOFFSETTO:-0500
TZNAME:CDT
DTSTART:20210314T080000
END:DAYLIGHT
BEGIN:STANDARD
TZOFFSETFROM:-0500
TZOFFSETTO:-0600
TZNAME:CST
DTSTART:20211107T070000
END:STANDARD
BEGIN:DAYLIGHT
TZOFFSETFROM:-0600
TZOFFSETTO:-0500
TZNAME:CDT
DTSTART:20220313T080000
END:DAYLIGHT
BEGIN:STANDARD
TZOFFSETFROM:-0500
TZOFFSETTO:-0600
TZNAME:CST
DTSTART:20221106T070000
END:STANDARD
BEGIN:DAYLIGHT
TZOFFSETFROM:-0600
TZOFFSETTO:-0500
TZNAME:CDT
DTSTART:20230312T080000
END:DAYLIGHT
BEGIN:STANDARD
TZOFFSETFROM:-0500
TZOFFSETTO:-0600
TZNAME:CST
DTSTART:20231105T070000
END:STANDARD
END:VTIMEZONE
BEGIN:VEVENT
DTSTART;TZID=America/Chicago:20221111T190000
DTEND;TZID=America/Chicago:20221111T220000
DTSTAMP:20260421T080126
CREATED:20220915T033402Z
LAST-MODIFIED:20220915T035613Z
UID:1952-1668193200-1668204000@cooldogsound.com
SUMMARY:Tyler Keith @ Turnrow Books
DESCRIPTION:Turnrow Books and Cool Dog Sound present an Evening of Readings and Music to Celebrate the Debut Novel by Tyler Keith\, The Mark of Cain. \nTim Lee will also read from his memoir published 11.05.21\, plus featuring performances by Tyler Keith and by Bark (Tim Lee & Susan Bauer Lee). \n“Tyler Keith is a writer of amazing talent with echoes of Jim Thompson and Harry Crews in this wildly dark\, funny trip to the Florida panhandle. This book bleeds with authenticity.”  – Ace Atkins\, NYT Bestselling author of The Shameless
URL:https://cooldogsound.com/event/tyler-keith-turnrow-books/
LOCATION:Turnrow Books\, 304 Howard Street\, Greenwood\, MS\, 38930\, United States
CATEGORIES:Book,Music
END:VEVENT
END:VCALENDAR