BEGIN:VCALENDAR
VERSION:2.0
PRODID:-//Cool Dog Sound LLC - ECPv6.15.20//NONSGML v1.0//EN
CALSCALE:GREGORIAN
METHOD:PUBLISH
X-ORIGINAL-URL:https://cooldogsound.com
X-WR-CALDESC:Events for Cool Dog Sound LLC
REFRESH-INTERVAL;VALUE=DURATION:PT1H
X-Robots-Tag:noindex
X-PUBLISHED-TTL:PT1H
BEGIN:VTIMEZONE
TZID:America/Chicago
BEGIN:DAYLIGHT
TZOFFSETFROM:-0600
TZOFFSETTO:-0500
TZNAME:CDT
DTSTART:20210314T080000
END:DAYLIGHT
BEGIN:STANDARD
TZOFFSETFROM:-0500
TZOFFSETTO:-0600
TZNAME:CST
DTSTART:20211107T070000
END:STANDARD
BEGIN:DAYLIGHT
TZOFFSETFROM:-0600
TZOFFSETTO:-0500
TZNAME:CDT
DTSTART:20220313T080000
END:DAYLIGHT
BEGIN:STANDARD
TZOFFSETFROM:-0500
TZOFFSETTO:-0600
TZNAME:CST
DTSTART:20221106T070000
END:STANDARD
BEGIN:DAYLIGHT
TZOFFSETFROM:-0600
TZOFFSETTO:-0500
TZNAME:CDT
DTSTART:20230312T080000
END:DAYLIGHT
BEGIN:STANDARD
TZOFFSETFROM:-0500
TZOFFSETTO:-0600
TZNAME:CST
DTSTART:20231105T070000
END:STANDARD
END:VTIMEZONE
BEGIN:VEVENT
DTSTART;TZID=America/Chicago:20221112T120000
DTEND;TZID=America/Chicago:20221112T130000
DTSTAMP:20260421T080211
CREATED:20220915T033939Z
LAST-MODIFIED:20220915T034522Z
UID:1957-1668254400-1668258000@cooldogsound.com
SUMMARY:Tyler Keith @ Lemuria Books
DESCRIPTION:Turnrow Books and Cool Dog Sound present a Book Signing for the Debut Novel by Tyler Keith\, The Mark of Cain \n“Tyler Keith is a writer of amazing talent with echoes of Jim Thompson and Harry Crews in this wildly dark\, funny trip to the Florida panhandle. This book bleeds with authenticity.”  – Ace Atkins\, NYT Bestselling author of The Shameless
URL:https://cooldogsound.com/event/tyler-keith-lemuria-books/
LOCATION:Lemuria Books\, 202 Banner Hall / 4465 I-55 North\, Jackson\, MS\, 39206\, United States
CATEGORIES:Book
END:VEVENT
BEGIN:VEVENT
DTSTART;TZID=America/Chicago:20221112T160000
DTEND;TZID=America/Chicago:20221112T180000
DTSTAMP:20260421T080211
CREATED:20220915T035429Z
LAST-MODIFIED:20220915T035429Z
UID:1969-1668268800-1668276000@cooldogsound.com
SUMMARY:Tyler Keith @ T-Bones Records
DESCRIPTION:T-Bones Records and Cool Dog Sound present an Afternoon of Readings and Music to Celebrate the Debut Novel by Tyler Keith\, The Mark of Cain. \nTim Lee will also read from his memoir I Saw a Dozen Faces… published 11.05.21\, plus featuring performances by Tyler Keith and by Bark (Tim Lee & Susan Bauer Lee). \n“Tyler Keith is a writer of amazing talent with echoes of Jim Thompson and Harry Crews in this wildly dark\, funny trip to the Florida panhandle. This book bleeds with authenticity.”  – Ace Atkins\, NYT Bestselling author of The Shameless
URL:https://cooldogsound.com/event/tyler-keith-t-bones-records/
LOCATION:T-Bone Records\, 2101 Hardy Street\, Hattiesburg\, MS\, 39401\, United States
CATEGORIES:Book,Music
END:VEVENT
END:VCALENDAR