BEGIN:VCALENDAR
VERSION:2.0
PRODID:-//Cool Dog Sound LLC - ECPv6.15.20//NONSGML v1.0//EN
CALSCALE:GREGORIAN
METHOD:PUBLISH
X-WR-CALNAME:Cool Dog Sound LLC
X-ORIGINAL-URL:https://cooldogsound.com
X-WR-CALDESC:Events for Cool Dog Sound LLC
REFRESH-INTERVAL;VALUE=DURATION:PT1H
X-Robots-Tag:noindex
X-PUBLISHED-TTL:PT1H
BEGIN:VTIMEZONE
TZID:America/Chicago
BEGIN:DAYLIGHT
TZOFFSETFROM:-0600
TZOFFSETTO:-0500
TZNAME:CDT
DTSTART:20210314T080000
END:DAYLIGHT
BEGIN:STANDARD
TZOFFSETFROM:-0500
TZOFFSETTO:-0600
TZNAME:CST
DTSTART:20211107T070000
END:STANDARD
BEGIN:DAYLIGHT
TZOFFSETFROM:-0600
TZOFFSETTO:-0500
TZNAME:CDT
DTSTART:20220313T080000
END:DAYLIGHT
BEGIN:STANDARD
TZOFFSETFROM:-0500
TZOFFSETTO:-0600
TZNAME:CST
DTSTART:20221106T070000
END:STANDARD
BEGIN:DAYLIGHT
TZOFFSETFROM:-0600
TZOFFSETTO:-0500
TZNAME:CDT
DTSTART:20230312T080000
END:DAYLIGHT
BEGIN:STANDARD
TZOFFSETFROM:-0500
TZOFFSETTO:-0600
TZNAME:CST
DTSTART:20231105T070000
END:STANDARD
END:VTIMEZONE
BEGIN:VEVENT
DTSTART;TZID=America/Chicago:20221216T190000
DTEND;TZID=America/Chicago:20221216T210000
DTSTAMP:20260421T053240
CREATED:20220919T215828Z
LAST-MODIFIED:20220919T215828Z
UID:1990-1671217200-1671224400@cooldogsound.com
SUMMARY:Tyler Keith @ TIN.
DESCRIPTION:TIN. and Cool Dog Sound present an Evening of Readings and Music to Celebrate the Debut Novel by Tyler Keith\, The Mark of Cain. \n“Tyler Keith is a writer of amazing talent with echoes of Jim Thompson and Harry Crews in this wildly dark\, funny trip to the Florida panhandle. This book bleeds with authenticity.”  – Ace Atkins\, NYT Bestselling author of The Shameless
URL:https://cooldogsound.com/event/tyler-keith-tin/
LOCATION:This Is Noteworthy (TIN.)\, 16 S. Main Street\, Water Valley\, MS\, 38965\, United States
CATEGORIES:Book,Music
END:VEVENT
BEGIN:VEVENT
DTSTART;TZID=America/Chicago:20221217T180000
DTEND;TZID=America/Chicago:20221217T190000
DTSTAMP:20260421T053240
CREATED:20220919T215504Z
LAST-MODIFIED:20220919T215532Z
UID:1984-1671300000-1671303600@cooldogsound.com
SUMMARY:Tyler Keith @ Goner Records
DESCRIPTION:Goner Records and Cool Dog Sound present an Evening of Readings to Celebrate the Debut Novel by Tyler Keith\, The Mark of Cain. \nTim Lee will also read from his memoir “I Saw A Dozen Faces…” published 11.05.21. \n“Tyler Keith is a writer of amazing talent with echoes of Jim Thompson and Harry Crews in this wildly dark\, funny trip to the Florida panhandle. This book bleeds with authenticity.”  – Ace Atkins\, NYT Bestselling author of The Shameless
URL:https://cooldogsound.com/event/tyler-keith-goner-records/
LOCATION:Goner Records\, 2152 Young Ave\, Memphis\, TN\, 38104\, United States
CATEGORIES:Book
END:VEVENT
END:VCALENDAR