BEGIN:VCALENDAR
VERSION:2.0
PRODID:-//Cool Dog Sound LLC - ECPv6.15.20//NONSGML v1.0//EN
CALSCALE:GREGORIAN
METHOD:PUBLISH
X-ORIGINAL-URL:https://cooldogsound.com
X-WR-CALDESC:Events for Cool Dog Sound LLC
REFRESH-INTERVAL;VALUE=DURATION:PT1H
X-Robots-Tag:noindex
X-PUBLISHED-TTL:PT1H
BEGIN:VTIMEZONE
TZID:America/Chicago
BEGIN:DAYLIGHT
TZOFFSETFROM:-0600
TZOFFSETTO:-0500
TZNAME:CDT
DTSTART:20220313T080000
END:DAYLIGHT
BEGIN:STANDARD
TZOFFSETFROM:-0500
TZOFFSETTO:-0600
TZNAME:CST
DTSTART:20221106T070000
END:STANDARD
BEGIN:DAYLIGHT
TZOFFSETFROM:-0600
TZOFFSETTO:-0500
TZNAME:CDT
DTSTART:20230312T080000
END:DAYLIGHT
BEGIN:STANDARD
TZOFFSETFROM:-0500
TZOFFSETTO:-0600
TZNAME:CST
DTSTART:20231105T070000
END:STANDARD
BEGIN:DAYLIGHT
TZOFFSETFROM:-0600
TZOFFSETTO:-0500
TZNAME:CDT
DTSTART:20240310T080000
END:DAYLIGHT
BEGIN:STANDARD
TZOFFSETFROM:-0500
TZOFFSETTO:-0600
TZNAME:CST
DTSTART:20241103T070000
END:STANDARD
END:VTIMEZONE
BEGIN:VEVENT
DTSTART;TZID=America/Chicago:20230106T170000
DTEND;TZID=America/Chicago:20230106T170000
DTSTAMP:20260421T041559
CREATED:20230103T162415Z
LAST-MODIFIED:20230103T162415Z
UID:2173-1673024400-1673024400@cooldogsound.com
SUMMARY:Tyler Keith Reading @ Antone's
DESCRIPTION:
URL:https://cooldogsound.com/event/tyler-keith-reading-antones/
LOCATION:Antone’s Record Shop\, 2928 Guadalupe\, Austin\, TX\, 78705\, United States
CATEGORIES:Book
ATTACH;FMTTYPE=image/jpeg:https://cooldogsound.com/wp-content/uploads/2023/01/tk-@-Antones.jpeg
END:VEVENT
BEGIN:VEVENT
DTSTART;TZID=America/Chicago:20230114T130000
DTEND;TZID=America/Chicago:20230114T160000
DTSTAMP:20260421T041559
CREATED:20230103T182136Z
LAST-MODIFIED:20230103T182136Z
UID:2177-1673701200-1673712000@cooldogsound.com
SUMMARY:Tyler Keith @ Sun Dog Books
DESCRIPTION:
URL:https://cooldogsound.com/event/tyler-keith-sun-dog-books/
LOCATION:Sun Dog Books\, 89 Central Square\, Santa Rosa Beach\, FL\, 32459\, United States
CATEGORIES:Book
END:VEVENT
BEGIN:VEVENT
DTSTART;TZID=America/Chicago:20230115T180000
DTEND;TZID=America/Chicago:20230115T200000
DTSTAMP:20260421T041559
CREATED:20230104T040432Z
LAST-MODIFIED:20230104T044209Z
UID:2180-1673805600-1673812800@cooldogsound.com
SUMMARY:Tyler Keith @ 309 Punk Archive
DESCRIPTION:
URL:https://cooldogsound.com/event/tyler-keith-the-punk-house/
LOCATION:309 Punk Archive\, 309 N 6th Ave.\, Pensacola\, FL\, ​32501\, United States
CATEGORIES:Book,Music
END:VEVENT
BEGIN:VEVENT
DTSTART;TZID=America/Chicago:20230118T200000
DTEND;TZID=America/Chicago:20230118T200000
DTSTAMP:20260421T041559
CREATED:20230103T001320Z
LAST-MODIFIED:20230103T001320Z
UID:2158-1674072000-1674072000@cooldogsound.com
SUMMARY:BARK + RB Morris @ Proud Larrys
DESCRIPTION:EARLY FREE SHOW
URL:https://cooldogsound.com/event/bark-rb-morris-proud-larrys/
LOCATION:Proud Larry’s\, Oxford\, MS\, United States
CATEGORIES:Music
END:VEVENT
BEGIN:VEVENT
DTSTART;TZID=America/Chicago:20230120T190000
DTEND;TZID=America/Chicago:20230120T190000
DTSTAMP:20260421T041559
CREATED:20230103T001638Z
LAST-MODIFIED:20230103T001638Z
UID:2161-1674241200-1674241200@cooldogsound.com
SUMMARY:BARK + RB Morris @ Urban Foxes
DESCRIPTION:Tickets: $7 in advance/$10 at the door
URL:https://cooldogsound.com/event/bark-rb-morris-urban-foxes/
LOCATION:Urban Foxes\, 826 North Street\, Jackson\, MS\, 39202\, United States
CATEGORIES:Music
END:VEVENT
BEGIN:VEVENT
DTSTART;TZID=America/Chicago:20230121T190000
DTEND;TZID=America/Chicago:20230121T190000
DTSTAMP:20260421T041559
CREATED:20230103T002328Z
LAST-MODIFIED:20230103T002328Z
UID:2166-1674327600-1674327600@cooldogsound.com
SUMMARY:RB Morris + BARK @ Live Oak Listening Room
DESCRIPTION:
URL:https://cooldogsound.com/event/rb-morris-bark-live-oak-listening-room/
LOCATION:Live Oak Listening Room\, 520 E. Hospital\, Nacogdoches\, TX\, United States
CATEGORIES:Music
END:VEVENT
BEGIN:VEVENT
DTSTART;TZID=America/Chicago:20230122T170000
DTEND;TZID=America/Chicago:20230122T170000
DTSTAMP:20260421T041559
CREATED:20230103T002730Z
LAST-MODIFIED:20230103T002730Z
UID:2170-1674406800-1674406800@cooldogsound.com
SUMMARY:RB Morris + BARK @ White Water Tavern
DESCRIPTION:
URL:https://cooldogsound.com/event/rb-morris-bark-white-water-tavern/
LOCATION:White Water Tavern\, 2500 West 7th Street\, Little Rock\, AR\, 72205\, United States
CATEGORIES:Music
END:VEVENT
END:VCALENDAR